BEGIN:VCALENDAR
VERSION:2.0
PRODID:-//Department Of Education//9a2cb9b2-d2b3-43c2-9e91-4c31ec702004
BEGIN:VTIMEZONE
TZID:Australia/Sydney
TZURL:http://tzurl.org/zoneinfo-outlook/Australia/Sydney
X-LIC-LOCATION:Australia/Sydney
BEGIN:STANDARD
TZOFFSETFROM:+1100
TZOFFSETTO:+1000
TZNAME:AEST
DTSTART:19700405T030000
RRULE:FREQ=YEARLY;BYMONTH=4;BYDAY=1SU
END:STANDARD
BEGIN:DAYLIGHT
TZOFFSETFROM:+1000
TZOFFSETTO:+1100
TZNAME:AEDT
DTSTART:19701004T020000
RRULE:FREQ=YEARLY;BYMONTH=10;BYDAY=1SU
END:DAYLIGHT
END:VTIMEZONE
CALSCALE:GREGORIAN
X-WR-TIMEZONE:Australia/Sydney
BEGIN:VEVENT
DTSTART;TZID=Australia/Sydney:20200306T134000
DTEND;TZID=Australia/Sydney:20200306T143000
DTSTAMP:20200306T000000Z
UID:d88fb39c-8846-4dd7-ae41-5f65981013d6
LOCATION:School Hall
SUMMARY;LANGUAGE=en-us:School Assembly
SEQUENCE:0
DESCRIPTION:School assembly at 1:40pm. Items by 1N, 3H & 4S. All welcome to attend.
END:VEVENT
TRANSP:TRANSPARENT
END:VCALENDAR
