BEGIN:VCALENDAR
VERSION:2.0
PRODID:-//Department Of Education//fd2d2ef6-0eb9-4cce-9111-ec1abb2334e6
BEGIN:VTIMEZONE
TZID:Australia/Sydney
TZURL:http://tzurl.org/zoneinfo-outlook/Australia/Sydney
X-LIC-LOCATION:Australia/Sydney
BEGIN:STANDARD
TZOFFSETFROM:+1100
TZOFFSETTO:+1000
TZNAME:AEST
DTSTART:19700405T030000
RRULE:FREQ=YEARLY;BYMONTH=4;BYDAY=1SU
END:STANDARD
BEGIN:DAYLIGHT
TZOFFSETFROM:+1000
TZOFFSETTO:+1100
TZNAME:AEDT
DTSTART:19701004T020000
RRULE:FREQ=YEARLY;BYMONTH=10;BYDAY=1SU
END:DAYLIGHT
END:VTIMEZONE
CALSCALE:GREGORIAN
X-WR-TIMEZONE:Australia/Sydney
BEGIN:VEVENT
DTSTART;TZID=Australia/Sydney:20200311T090000
DTEND;TZID=Australia/Sydney:20200311T150000
DTSTAMP:20200311T000000Z
UID:77740f9d-91d3-476a-869b-3029a2df4217
LOCATION:Dapto
SUMMARY;LANGUAGE=en-us:Regional Swimming Carnival
SEQUENCE:0
DESCRIPTION:Students who qualify at the District Swimming Carnival will receive information about this event.
END:VEVENT
TRANSP:TRANSPARENT
END:VCALENDAR
