BEGIN:VCALENDAR
VERSION:2.0
PRODID:-//Department Of Education//bc2b2b83-f291-4d45-b760-e9cff4308e9d
BEGIN:VTIMEZONE
TZID:Australia/Sydney
TZURL:http://tzurl.org/zoneinfo-outlook/Australia/Sydney
X-LIC-LOCATION:Australia/Sydney
BEGIN:STANDARD
TZOFFSETFROM:+1100
TZOFFSETTO:+1000
TZNAME:AEST
DTSTART:19700405T030000
RRULE:FREQ=YEARLY;BYMONTH=4;BYDAY=1SU
END:STANDARD
BEGIN:DAYLIGHT
TZOFFSETFROM:+1000
TZOFFSETTO:+1100
TZNAME:AEDT
DTSTART:19701004T020000
RRULE:FREQ=YEARLY;BYMONTH=10;BYDAY=1SU
END:DAYLIGHT
END:VTIMEZONE
CALSCALE:GREGORIAN
X-WR-TIMEZONE:Australia/Sydney
BEGIN:VEVENT
DTSTART;TZID=Australia/Sydney:20200309T090000
DTEND;TZID=Australia/Sydney:20200309T150000
DTSTAMP:20200309T000000Z
UID:0dc7d7cd-b660-4d27-b796-8c87a524c56b
LOCATION:School
SUMMARY;LANGUAGE=en-us:Pupil Free Day for Staff Development
SEQUENCE:0
DESCRIPTION:Schools in the Queanbeyan Education Network have been given permission from the Department of Education to hold a collaborative professional development day. We will be meeting at the University of Canberra to continue sharing a Maths program aimed at accelerating maths performance for children in this district. This day will be pupil free and we ask that families mark their calendars and prepare to have a long weekend. If you have any questions, please ask and we will endeavour to support you with your queries.
END:VEVENT
TRANSP:TRANSPARENT
END:VCALENDAR
