BEGIN:VCALENDAR
VERSION:2.0
PRODID:-//Department Of Education//cbd92b8b-fbf4-4b98-a4d1-90df249c3c2f
BEGIN:VTIMEZONE
TZID:Australia/Sydney
TZURL:http://tzurl.org/zoneinfo-outlook/Australia/Sydney
X-LIC-LOCATION:Australia/Sydney
BEGIN:STANDARD
TZOFFSETFROM:+1100
TZOFFSETTO:+1000
TZNAME:AEST
DTSTART:19700405T030000
RRULE:FREQ=YEARLY;BYMONTH=4;BYDAY=1SU
END:STANDARD
BEGIN:DAYLIGHT
TZOFFSETFROM:+1000
TZOFFSETTO:+1100
TZNAME:AEDT
DTSTART:19701004T020000
RRULE:FREQ=YEARLY;BYMONTH=10;BYDAY=1SU
END:DAYLIGHT
END:VTIMEZONE
CALSCALE:GREGORIAN
X-WR-TIMEZONE:Australia/Sydney
BEGIN:VEVENT
DTSTART;TZID=Australia/Sydney:20200303T190000
DTEND;TZID=Australia/Sydney:20200303T200000
DTSTAMP:20200303T000000Z
UID:984c2f52-7b1d-4d8e-8dcb-f81d5cf3b33b
LOCATION:Staffroom
SUMMARY;LANGUAGE=en-us:P&C Meeting
SEQUENCE:0
DESCRIPTION:Our P&C Association meet regularly to contribute to decision making, developing school policies and management plans as well as fundraising.
END:VEVENT
TRANSP:TRANSPARENT
END:VCALENDAR
