BEGIN:VCALENDAR
VERSION:2.0
PRODID:-//Department Of Education//85560dc4-593d-4f05-9567-9510236b974a
BEGIN:VTIMEZONE
TZID:Australia/Sydney
TZURL:http://tzurl.org/zoneinfo-outlook/Australia/Sydney
X-LIC-LOCATION:Australia/Sydney
BEGIN:STANDARD
TZOFFSETFROM:+1100
TZOFFSETTO:+1000
TZNAME:AEST
DTSTART:19700405T030000
RRULE:FREQ=YEARLY;BYMONTH=4;BYDAY=1SU
END:STANDARD
BEGIN:DAYLIGHT
TZOFFSETFROM:+1000
TZOFFSETTO:+1100
TZNAME:AEDT
DTSTART:19701004T020000
RRULE:FREQ=YEARLY;BYMONTH=10;BYDAY=1SU
END:DAYLIGHT
END:VTIMEZONE
CALSCALE:GREGORIAN
X-WR-TIMEZONE:Australia/Sydney
BEGIN:VEVENT
DTSTART;TZID=Australia/Sydney:20200310T180000
DTEND;TZID=Australia/Sydney:20200310T200000
DTSTAMP:20200310T000000Z
UID:f4922ada-e21f-417b-bd89-b810b8666ea7
LOCATION:Karabar High School
SUMMARY;LANGUAGE=en-us:Karabar High School Open Night
SEQUENCE:0
DESCRIPTION:Come along and hear more about the developments at Karabar. The night includes Presentation by Principal, Andrew Turvey Introduction to Karabar's values, directions and programs Visit classrooms and meet teachers and students Tea and coffee and time for informal conversations
END:VEVENT
TRANSP:TRANSPARENT
END:VCALENDAR
