BEGIN:VCALENDAR
VERSION:2.0
PRODID:-//Department Of Education//4db9d505-0cd3-492d-9818-e54af4ca3764
BEGIN:VTIMEZONE
TZID:Australia/Sydney
TZURL:http://tzurl.org/zoneinfo-outlook/Australia/Sydney
X-LIC-LOCATION:Australia/Sydney
BEGIN:STANDARD
TZOFFSETFROM:+1100
TZOFFSETTO:+1000
TZNAME:AEST
DTSTART:19700405T030000
RRULE:FREQ=YEARLY;BYMONTH=4;BYDAY=1SU
END:STANDARD
BEGIN:DAYLIGHT
TZOFFSETFROM:+1000
TZOFFSETTO:+1100
TZNAME:AEDT
DTSTART:19701004T020000
RRULE:FREQ=YEARLY;BYMONTH=10;BYDAY=1SU
END:DAYLIGHT
END:VTIMEZONE
CALSCALE:GREGORIAN
X-WR-TIMEZONE:Australia/Sydney
BEGIN:VEVENT
DTSTART;TZID=Australia/Sydney:20200303T090000
DTEND;TZID=Australia/Sydney:20200303T110000
DTSTAMP:20200303T000000Z
UID:253ce100-8467-49d5-88a8-72ef47909e03
LOCATION:School Hall
SUMMARY;LANGUAGE=en-us:A Case of Emergency - Incursion for Yr5 & Yr 6
SEQUENCE:0
DESCRIPTION:This is an interactive workshop where students investigate and analyse information to solve a fictional scenario. Please return the attached permission note and payment of $6.00 for your child to attend.
END:VEVENT
TRANSP:TRANSPARENT
END:VCALENDAR
